BEGIN:VCALENDAR
VERSION:2.0
PRODID:-//Contratero//ES
CALSCALE:GREGORIAN
METHOD:PUBLISH
BEGIN:VEVENT
UID:S5O-289/2023 - L7@contratero.es
DTSTAMP:20260424T162528Z
DTSTART:20230911T235959
DTEND:20230912T005959
SUMMARY:Cierre: Suministro de herramientas de administración digit
DESCRIPTION:Suministro de herramientas de administración digital para Ayuntamientos. Financiado por la Unión Europea-NextGenerationEU. Lote 7: Kiosco interactivo mixto.\\n\\nOrganismo: Presidencia de la Diputación Provincial de Alicante\\n\\nVer en Contratero: https://contratero.es/contracts/S5O-289/2023 - L7
URL:https://contratero.es/contracts/S5O-289/2023 - L7
STATUS:CONFIRMED
BEGIN:VALARM
TRIGGER:-P1D
ACTION:DISPLAY
DESCRIPTION:Recordatorio: Suministro de herramientas de 
END:VALARM
END:VEVENT
END:VCALENDAR